BEGIN:VCALENDAR
VERSION:2.0
PRODID:-//Tukios.com/
BEGIN:VEVENT
UID:564dc21c-a557-4bda-b47a-db3a9235e32f@www.legacyfhpasadena.com
DTSTAMP:20260423T023129Z
DTSTART:20260425T170000Z
DTEND:20260425T200000Z
SUMMARY:Funeral for Darwing Villanueva
DESCRIPTION:
URL:https://www.legacyfhpasadena.com/obituaries/darwing-villanueva
LOCATION:Mision Cristo Rey Ontario 730 North Mountain Avenue  Ontario CA 
	91762
GEO:34.0716404;-117.6696095
END:VEVENT
END:VCALENDAR